BEGIN:VCALENDAR
VERSION:2.0
PRODID:-//Академия за иновативно образование -Скопие „Здравей“ |  Българско съботно-неделно училище - ECPv6.15.20//NONSGML v1.0//EN
CALSCALE:GREGORIAN
METHOD:PUBLISH
X-WR-CALNAME:Академия за иновативно образование -Скопие „Здравей“ |  Българско съботно-неделно училище
X-ORIGINAL-URL:https://bgschool.mk
X-WR-CALDESC:Събития за Академия за иновативно образование -Скопие „Здравей“ |  Българско съботно-неделно училище
REFRESH-INTERVAL;VALUE=DURATION:PT1H
X-Robots-Tag:noindex
X-PUBLISHED-TTL:PT1H
BEGIN:VTIMEZONE
TZID:Europe/Skopje
BEGIN:DAYLIGHT
TZOFFSETFROM:+0100
TZOFFSETTO:+0200
TZNAME:CEST
DTSTART:20220327T010000
END:DAYLIGHT
BEGIN:STANDARD
TZOFFSETFROM:+0200
TZOFFSETTO:+0100
TZNAME:CET
DTSTART:20221030T010000
END:STANDARD
BEGIN:DAYLIGHT
TZOFFSETFROM:+0100
TZOFFSETTO:+0200
TZNAME:CEST
DTSTART:20230326T010000
END:DAYLIGHT
BEGIN:STANDARD
TZOFFSETFROM:+0200
TZOFFSETTO:+0100
TZNAME:CET
DTSTART:20231029T010000
END:STANDARD
BEGIN:DAYLIGHT
TZOFFSETFROM:+0100
TZOFFSETTO:+0200
TZNAME:CEST
DTSTART:20240331T010000
END:DAYLIGHT
BEGIN:STANDARD
TZOFFSETFROM:+0200
TZOFFSETTO:+0100
TZNAME:CET
DTSTART:20241027T010000
END:STANDARD
END:VTIMEZONE
BEGIN:VEVENT
DTSTART;TZID=Europe/Skopje:20230419T181500
DTEND;TZID=Europe/Skopje:20230419T200000
DTSTAMP:20260421T164920
CREATED:20230413T165352Z
LAST-MODIFIED:20230413T165355Z
UID:3389-1681928100-1681934400@bgschool.mk
SUMMARY:КНИЖЕВЕН и НОВИНАРСКИ КЛУБ
DESCRIPTION:Едукативна посета на МТВМесто: Зградата на МТВ во Скопје
URL:https://bgschool.mk/kalendar/tvorilnica3-novinarski-klub-4/
CATEGORIES:Творилница 3
ORGANIZER;CN="%D0%A2%D0%B2%D0%BE%D1%80%D0%B8%D0%BB%D0%BD%D0%B8%D1%86%D0%B0":MAILTO:proekti@bgschool.mk
END:VEVENT
BEGIN:VEVENT
DTSTART;TZID=Europe/Skopje:20230418T163000
DTEND;TZID=Europe/Skopje:20230418T183000
DTSTAMP:20260421T164920
CREATED:20230413T162448Z
LAST-MODIFIED:20230413T163032Z
UID:3385-1681835400-1681842600@bgschool.mk
SUMMARY:МУЗИЧКО-ДРАМСКИ КЛУБ со Теа
DESCRIPTION:
URL:https://bgschool.mk/kalendar/tvorilnica3-muzicko-dramski-klub-6-2/
LOCATION:ООУ „Кузман Јосифовски Питу“\, Скопје\, Антон Попов 2\, Скопје\, Скопје\, 1000\, North Macedonia
CATEGORIES:Творилница 3
ORGANIZER;CN="%D0%A2%D0%B2%D0%BE%D1%80%D0%B8%D0%BB%D0%BD%D0%B8%D1%86%D0%B0":MAILTO:proekti@bgschool.mk
END:VEVENT
BEGIN:VEVENT
DTSTART;TZID=Europe/Skopje:20230413T170000
DTEND;TZID=Europe/Skopje:20230413T193000
DTSTAMP:20260421T164920
CREATED:20230412T220215Z
LAST-MODIFIED:20230413T163058Z
UID:3382-1681405200-1681414200@bgschool.mk
SUMMARY:КНИЖЕВЕН И НОВИНАРСКИ КЛУБ со м-р Маја Трајковиќ и Ксенија Маказлиева Трајчева
DESCRIPTION:Паралелно ќе се реализираат две работилници. Едната ќе ја води Маја Трајковиќ\, другата Ксенија Маказлиева ТрајчеваДвете работилници ќе бидат прилагодени според возрасната група: \n\n\n\nБиблиотерапија за мали и големи деца со игри и практични вежби17.00 – Маја Трајковиќ со децата од предметна настава и средно училиште18.00 – Маја Трајковиќ со децата од одделенска настава \n\n\n\nИнтерактивна книжевна работилница за читачки вештини\, креативно пишување\, творење и изразување.17.00 – Ксенија Маказлиева Трајчева со децата од одделенска настава18 00 – Ксенија Маказлиева Трајчева со децата од предметна настава и средно училиште
URL:https://bgschool.mk/kalendar/tvorilnica3-knizeven-klub-4/
LOCATION:Академија за иновативно образование „Здравеј“- Скопје\, бул. 11-ти Октомври 38/3\, Скопје\, Скопје\, 1000\, North Macedonia
CATEGORIES:Творилница 3
ORGANIZER;CN="%D0%A2%D0%B2%D0%BE%D1%80%D0%B8%D0%BB%D0%BD%D0%B8%D1%86%D0%B0":MAILTO:proekti@bgschool.mk
END:VEVENT
BEGIN:VEVENT
DTSTART;TZID=Europe/Skopje:20230412T183000
DTEND;TZID=Europe/Skopje:20230412T200000
DTSTAMP:20260421T164920
CREATED:20230412T214956Z
LAST-MODIFIED:20230413T163110Z
UID:3378-1681324200-1681329600@bgschool.mk
SUMMARY:КНИЖЕВЕН КЛУБ со проф. д-р Снежана Мирасчиева
DESCRIPTION:ИНТЕРАКТИВНО ОНЛАЈН ПРЕДАВАЊЕ ЗА НАСТАВНИЦИ \n\n\n\nна тема „Работа со надарените и талентираните ученици во сите нивоа на воспитно-образовниот процес“. \n\n\n\nПрисуството на наставниците вклучени во проектот е задолжително.
URL:https://bgschool.mk/kalendar/%d0%bf%d0%b8%d1%81%d0%b0%d1%82%d0%b5%d0%bb%d1%81%d0%ba%d0%be-%d1%87%d0%b8%d1%82%d0%b0%d1%82%d0%b5%d0%bb%d1%81%d0%ba%d0%b8-%d0%ba%d0%bb%d1%83%d0%b1-4/
LOCATION:Online on Zoho meeting
CATEGORIES:Творилница 3
ORGANIZER;CN="%D0%A2%D0%B2%D0%BE%D1%80%D0%B8%D0%BB%D0%BD%D0%B8%D1%86%D0%B0":MAILTO:proekti@bgschool.mk
END:VEVENT
BEGIN:VEVENT
DTSTART;TZID=Europe/Skopje:20230412T170000
DTEND;TZID=Europe/Skopje:20230412T200000
DTSTAMP:20260421T164920
CREATED:20230412T214112Z
LAST-MODIFIED:20230413T163135Z
UID:3375-1681318800-1681329600@bgschool.mk
SUMMARY:МУЗИЧКО-ДРАМСКИ КЛУБ со Теа
DESCRIPTION:17.00 часот со малите групи \n\n\n\n18.30 со големите групи
URL:https://bgschool.mk/kalendar/tvorilnica3-muzicko-dramski-klub-7/
LOCATION:Академија за иновативно образование „Здравеј“- Скопје\, бул. 11-ти Октомври 38/3\, Скопје\, Скопје\, 1000\, North Macedonia
CATEGORIES:Творилница 3
ORGANIZER;CN="%D0%A2%D0%B2%D0%BE%D1%80%D0%B8%D0%BB%D0%BD%D0%B8%D1%86%D0%B0":MAILTO:proekti@bgschool.mk
END:VEVENT
BEGIN:VEVENT
DTSTART;TZID=Europe/Skopje:20230411T180000
DTEND;TZID=Europe/Skopje:20230411T200000
DTSTAMP:20260421T164920
CREATED:20230412T213700Z
LAST-MODIFIED:20230413T163158Z
UID:3373-1681236000-1681243200@bgschool.mk
SUMMARY:МУЗИЧКО-ДРАМСКИ КЛУБ со Ангела
DESCRIPTION:18.00 – прва работилница со малите од одделенска настава19.00 – втора работилница со големите од предметна настава
URL:https://bgschool.mk/kalendar/tvorilnica3-muzicko-dramski-klub-6/
LOCATION:Академија за иновативно образование „Здравеј“- Скопје\, бул. 11-ти Октомври 38/3\, Скопје\, Скопје\, 1000\, North Macedonia
CATEGORIES:Творилница 3
ORGANIZER;CN="%D0%A2%D0%B2%D0%BE%D1%80%D0%B8%D0%BB%D0%BD%D0%B8%D1%86%D0%B0":MAILTO:proekti@bgschool.mk
END:VEVENT
BEGIN:VEVENT
DTSTART;TZID=Europe/Skopje:20230410T173000
DTEND;TZID=Europe/Skopje:20230410T200000
DTSTAMP:20260421T164920
CREATED:20230412T212631Z
LAST-MODIFIED:20230413T163223Z
UID:3368-1681147800-1681156800@bgschool.mk
SUMMARY:ЛИКОВЕН КЛУБ-Калиграфија
DESCRIPTION:Калиграфија со проф. д-р Александра Ристовска \n\n\n\n17.30 – прва работилница (за тие што се прва смена)19.00 – втора работилница (за тие што се втора смена)
URL:https://bgschool.mk/kalendar/%d0%bb%d0%b8%d0%ba%d0%be%d0%b2%d0%b5%d0%bd-%d0%ba%d0%bb%d1%83%d0%b1-3/
LOCATION:Академија за иновативно образование „Здравеј“- Скопје\, бул. 11-ти Октомври 38/3\, Скопје\, Скопје\, 1000\, North Macedonia
CATEGORIES:Творилница 3
ORGANIZER;CN="%D0%A2%D0%B2%D0%BE%D1%80%D0%B8%D0%BB%D0%BD%D0%B8%D1%86%D0%B0":MAILTO:proekti@bgschool.mk
END:VEVENT
BEGIN:VEVENT
DTSTART;TZID=Europe/Skopje:20230409T080000
DTEND;TZID=Europe/Skopje:20230409T170000
DTSTAMP:20260421T164920
CREATED:20230330T212112Z
LAST-MODIFIED:20230330T212112Z
UID:3268-1681027200-1681059600@bgschool.mk
SUMMARY:СПОРТСКИ КЛУБ
DESCRIPTION:Спортски активности во природа со Раде Илевски\nМладински активизам со Мила Трајчева\n(време и место ќе бидат дополнително објавени)
URL:https://bgschool.mk/kalendar/%d1%81%d0%bf%d0%be%d1%80%d1%82%d1%81%d0%ba%d0%b8-%d0%ba%d0%bb%d1%83%d0%b1-2/
CATEGORIES:Творилница 3
ORGANIZER;CN="%D0%A2%D0%B2%D0%BE%D1%80%D0%B8%D0%BB%D0%BD%D0%B8%D1%86%D0%B0":MAILTO:proekti@bgschool.mk
END:VEVENT
BEGIN:VEVENT
DTSTART;TZID=Europe/Skopje:20230407T180000
DTEND;TZID=Europe/Skopje:20230407T200000
DTSTAMP:20260421T164920
CREATED:20230330T211853Z
LAST-MODIFIED:20230330T211853Z
UID:3266-1680890400-1680897600@bgschool.mk
SUMMARY:МУЗИЧКО-ДРАМСКИ КЛУБ
DESCRIPTION:Драмски клуб со Трајко Јордановски\n(за учесниците во Музичко- драмски клуб)
URL:https://bgschool.mk/kalendar/%d0%bc%d1%83%d0%b7%d0%b8%d1%87%d0%ba%d0%be-%d0%b4%d1%80%d0%b0%d0%bc%d1%81%d0%ba%d0%b8-%d0%ba%d0%bb%d1%83%d0%b1/
LOCATION:Национална опера и балет\, бул. Гоце Делчев бр.4\, Скопје\, Скопје\, 1000\, North Macedonia
CATEGORIES:Творилница 3
ORGANIZER;CN="%D0%A2%D0%B2%D0%BE%D1%80%D0%B8%D0%BB%D0%BD%D0%B8%D1%86%D0%B0":MAILTO:proekti@bgschool.mk
END:VEVENT
BEGIN:VEVENT
DTSTART;TZID=Europe/Skopje:20230406T180000
DTEND;TZID=Europe/Skopje:20230406T200000
DTSTAMP:20260421T164920
CREATED:20230330T211654Z
LAST-MODIFIED:20230330T211654Z
UID:3264-1680804000-1680811200@bgschool.mk
SUMMARY:ДРАМСКИ КЛУБ
DESCRIPTION:Драмски клуб со Трајко Јордановски
URL:https://bgschool.mk/kalendar/%d0%b4%d1%80%d0%b0%d0%bc%d1%81%d0%ba%d0%b8-%d0%ba%d0%bb%d1%83%d0%b1/
LOCATION:Национална опера и балет\, бул. Гоце Делчев бр.4\, Скопје\, Скопје\, 1000\, North Macedonia
CATEGORIES:Творилница 3
ORGANIZER;CN="%D0%A2%D0%B2%D0%BE%D1%80%D0%B8%D0%BB%D0%BD%D0%B8%D1%86%D0%B0":MAILTO:proekti@bgschool.mk
END:VEVENT
BEGIN:VEVENT
DTSTART;TZID=Europe/Skopje:20230405T170000
DTEND;TZID=Europe/Skopje:20230405T203000
DTSTAMP:20260421T164920
CREATED:20230330T211304Z
LAST-MODIFIED:20230330T211516Z
UID:3258-1680714000-1680726600@bgschool.mk
SUMMARY:МУЗИЧКО-ДРАМСКИ КЛУБ со Теа
DESCRIPTION:Музичкиот клуб со Теа Трајковска ќе има две работилници во зависност од смените на учениците \n17.00 – прва работилница за учениците кои се прва смена во училиште\n18.00 – втора работилница за учениците кои се втора смена во училиште \n(за учесниците во Драмски клуб)
URL:https://bgschool.mk/kalendar/%d0%bc%d1%83%d0%b7%d0%b8%d1%87%d0%ba%d0%b8-%d0%ba%d0%bb%d1%83%d0%b1/
LOCATION:ОГУДУ Кочо Рацин-Скопје\, Мирче Ацев 4\, Скопје\, Скопје\, 1000\, North Macedonia
CATEGORIES:Творилница 3
ORGANIZER;CN="%D0%A2%D0%B2%D0%BE%D1%80%D0%B8%D0%BB%D0%BD%D0%B8%D1%86%D0%B0":MAILTO:proekti@bgschool.mk
END:VEVENT
BEGIN:VEVENT
DTSTART;TZID=Europe/Skopje:20230404T183000
DTEND;TZID=Europe/Skopje:20230404T203000
DTSTAMP:20260421T164920
CREATED:20230330T210630Z
LAST-MODIFIED:20230412T215053Z
UID:3254-1680633000-1680640200@bgschool.mk
SUMMARY:КНИЖЕВЕН КЛУБ со Маја Трајковиќ
DESCRIPTION:БИБЛИОТЕРАПИЈА – читањето\, емоциите и развивање на просоцијални вредности\, ставови и техники- онлајн книжевна работилница со м-р Маја Трајковиќ
URL:https://bgschool.mk/kalendar/%d0%bf%d0%b8%d1%81%d0%b0%d1%82%d0%b5%d0%bb%d1%81%d0%ba%d0%be-%d1%87%d0%b8%d1%82%d0%b0%d1%82%d0%b5%d0%bb%d1%81%d0%ba%d0%b8-%d0%ba%d0%bb%d1%83%d0%b1/
LOCATION:Online on Zoho meeting
CATEGORIES:Творилница 3
ORGANIZER;CN="%D0%A2%D0%B2%D0%BE%D1%80%D0%B8%D0%BB%D0%BD%D0%B8%D1%86%D0%B0":MAILTO:proekti@bgschool.mk
END:VEVENT
BEGIN:VEVENT
DTSTART;TZID=Europe/Skopje:20230403T173000
DTEND;TZID=Europe/Skopje:20230403T200000
DTSTAMP:20260421T164920
CREATED:20230330T210028Z
LAST-MODIFIED:20230330T210028Z
UID:3251-1680543000-1680552000@bgschool.mk
SUMMARY:ЛИКОВЕН КЛУБ
DESCRIPTION:Карикатурата како применета уметност со проф. д-р Александра Ристовска \n17.30 – прва работилница\n18.30 – втора работилница
URL:https://bgschool.mk/kalendar/%d0%bb%d0%b8%d0%ba%d0%be%d0%b2%d0%b5%d0%bd-%d0%ba%d0%bb%d1%83%d0%b1-2/
LOCATION:ОГУДУ Кочо Рацин-Скопје\, Мирче Ацев 4\, Скопје\, Скопје\, 1000\, North Macedonia
CATEGORIES:Творилница 3
ORGANIZER;CN="%D0%A2%D0%B2%D0%BE%D1%80%D0%B8%D0%BB%D0%BD%D0%B8%D1%86%D0%B0":MAILTO:proekti@bgschool.mk
END:VEVENT
BEGIN:VEVENT
DTSTART;TZID=Europe/Skopje:20230402T083000
DTEND;TZID=Europe/Skopje:20230402T170000
DTSTAMP:20260421T164920
CREATED:20230325T183907Z
LAST-MODIFIED:20230325T201118Z
UID:3215-1680424200-1680454800@bgschool.mk
SUMMARY:СПОРТСКИ КЛУБ
DESCRIPTION:СПОРТСКИ КЛУБ \nИГРИ БЕЗ ГРАНИЦИ во ПРИРОДА со Раде Илиевски
URL:https://bgschool.mk/kalendar/tvorilnica3-sportski-klub/
CATEGORIES:Творилница 3
ORGANIZER;CN="%D0%A2%D0%B2%D0%BE%D1%80%D0%B8%D0%BB%D0%BD%D0%B8%D1%86%D0%B0":MAILTO:proekti@bgschool.mk
END:VEVENT
BEGIN:VEVENT
DTSTART;TZID=Europe/Skopje:20230330T173000
DTEND;TZID=Europe/Skopje:20230330T190000
DTSTAMP:20260421T164920
CREATED:20230325T183705Z
LAST-MODIFIED:20230325T201118Z
UID:3213-1680197400-1680202800@bgschool.mk
SUMMARY:НОВИНАРСКИ КЛУБ
DESCRIPTION:НОВИНАРСКИ КЛУБ \nПомеѓу насилството и булингот – Онлајн предавање с м-р Маја Георгиева Павловски
URL:https://bgschool.mk/kalendar/tvorilnica3-novinarski-klub-3/
LOCATION:ОГУДУ Кочо Рацин-Скопје\, Мирче Ацев 4\, Скопје\, Скопје\, 1000\, North Macedonia
CATEGORIES:Творилница 3
ORGANIZER;CN="%D0%A2%D0%B2%D0%BE%D1%80%D0%B8%D0%BB%D0%BD%D0%B8%D1%86%D0%B0":MAILTO:proekti@bgschool.mk
END:VEVENT
BEGIN:VEVENT
DTSTART;TZID=Europe/Skopje:20230329T173000
DTEND;TZID=Europe/Skopje:20230329T190000
DTSTAMP:20260421T164920
CREATED:20230325T182759Z
LAST-MODIFIED:20230325T201119Z
UID:3209-1680111000-1680116400@bgschool.mk
SUMMARY:НОВИНАРСКИ КЛУБ
DESCRIPTION:НОВИНАРСКИ КЛУБ \nМедиумска писменост и младински активизам – Онлајн предавање на Билјана Лазареска и Билјана Костовска
URL:https://bgschool.mk/kalendar/tvorilnica3-novinarski-klub-2/
LOCATION:ОГУДУ Кочо Рацин-Скопје\, Мирче Ацев 4\, Скопје\, Скопје\, 1000\, North Macedonia
CATEGORIES:Творилница 3
ORGANIZER;CN="%D0%A2%D0%B2%D0%BE%D1%80%D0%B8%D0%BB%D0%BD%D0%B8%D1%86%D0%B0":MAILTO:proekti@bgschool.mk
END:VEVENT
BEGIN:VEVENT
DTSTART;TZID=Europe/Skopje:20230328T173000
DTEND;TZID=Europe/Skopje:20230328T190000
DTSTAMP:20260421T164920
CREATED:20230325T183433Z
LAST-MODIFIED:20230325T201119Z
UID:3211-1680024600-1680030000@bgschool.mk
SUMMARY:МУЗИЧКО-ДРАМСКИ КЛУБ
DESCRIPTION:МУЗИЧКО-ДРАМСКИ КЛУБ со Теа Трајковска и Анѓела Димитрова
URL:https://bgschool.mk/kalendar/tvorilnica3-muzicko-dramski-klub-2/
LOCATION:ОГУДУ Кочо Рацин-Скопје\, Мирче Ацев 4\, Скопје\, Скопје\, 1000\, North Macedonia
CATEGORIES:Творилница 3
ORGANIZER;CN="%D0%A2%D0%B2%D0%BE%D1%80%D0%B8%D0%BB%D0%BD%D0%B8%D1%86%D0%B0":MAILTO:proekti@bgschool.mk
END:VEVENT
BEGIN:VEVENT
DTSTART;TZID=Europe/Skopje:20230327T173000
DTEND;TZID=Europe/Skopje:20230327T190000
DTSTAMP:20260421T164920
CREATED:20230325T182521Z
LAST-MODIFIED:20230326T161536Z
UID:3207-1679938200-1679943600@bgschool.mk
SUMMARY:КНИЖЕВЕН и НОВИНАРСКИ КЛУБ
DESCRIPTION:КНИЖЕВЕН и НОВИНАРСКИ КЛУБ \nсо Ксенија Маказлиева Трајчева – писател за деца и. Уредник на списанија и книги за деца и Анита Никушева Јованчев – телевизиски новинар и автор на телевизки емисии \n 
URL:https://bgschool.mk/kalendar/tvorilnica3-novinarski-klub/
LOCATION:ОГУДУ Кочо Рацин-Скопје\, Мирче Ацев 4\, Скопје\, Скопје\, 1000\, North Macedonia
CATEGORIES:Творилница 3
ORGANIZER;CN="%D0%A2%D0%B2%D0%BE%D1%80%D0%B8%D0%BB%D0%BD%D0%B8%D1%86%D0%B0":MAILTO:proekti@bgschool.mk
END:VEVENT
BEGIN:VEVENT
DTSTART;TZID=Europe/Skopje:20230326T083000
DTEND;TZID=Europe/Skopje:20230326T170000
DTSTAMP:20260421T164920
CREATED:20230325T181529Z
LAST-MODIFIED:20230325T201119Z
UID:3202-1679819400-1679850000@bgschool.mk
SUMMARY:СПОРТСКИ КЛУБ
DESCRIPTION:ПЛАНИНАРЕЊЕ на Водно\, со проф. Раде Илиевски \nЗборно место ООУ ‘Кочо Рацин“\, Скопје\, 8.30 часот \nПланинарењето релаксира\, го зајакнуваат организамот\,  ја подигнува самодовербата  и овозможува нови познанства и искуства…  Освен вообичаената облека задолжително е да набавите водоотпорна јакна со капа. За разлика од облеката чевлите се најбитни во планински услови\,и при избирањето дозволете си да бидат што по солидни. Секако во ваква опрема спаѓа и не премал но не и преголем ранец\,од водоотпорен материјал и по можност анатомски  обликуван. . Првенствено во ранецот мора да има кутија со прва помош\, нож\, батеријска ламба\, планинарска карта\,  лични документи\, исклучен но наполнет  мобилен телефон. \n\nПрилагоди ги своите цели и активности на моменталната кондиција. Секое претерување е опасно.\nИсхраната базирај ја на комплексни јагленохидрати.\nПиј често\, но не алкохол за време на тура. Алкохолот ја намалува силата и будноста\, па затоа мора да се избегнува за време на тури и качување.\nПрвиот половина час оди полека за телото да се загрее.\nОдмор\, јадење и течности по можност да се конзумира секој половина час. Треба да се јаде малку и да се пие многу дури и кога не сте гладни и жедни (тогаш е поважно тоа).\nАко се појават знаци на замор и исцрпеност\, одмори се подолго или разгледај ја можноста за откажување од турата. За време на одморот не јади само гликоза\, туку и сложени\, комплексни јагленохидрати. Доколку имаш знаци на сериозна исцрпеност\, можно е да се работи за премрзнатост- хипотермија или за тешка исцрпеност- акутна планинска болест.\nДецата и старите лица како и лицата кои што боледуваат од хронични болести можат да планинарат но со максимално внимание. Ако постои сомнеж консултирајте лекар.\nДури и во најмалиот ранец има доволно простор за основна опрема. Никогаш не заборавај наочари за сонце\, ракавици\, капа\, бивак вреќа\, резервна облека\, свеќи и кибрит\, светилка и прва помош.\nБарај совет од искусни локални познавачи на патеката\, информирај се за климатските и временските промени пред почетокот на турата.\n\nПовеќето луѓе пешачењето (планинарењето) го сметаат дека тоа е само да се оди на планина\, и дека целта е “освојување” на уште еден врв. Сепак\, секој сериозен љубител на природата знае дека планинарењето всушност е еден начин на животен стил. Покрај шетањето во природа\, со планинарење се развивате во силна и стабилна личност\, која се полни со храброст\, ментална и физичка сила\, издржливост\, флексибилност\, одговорност кон себе\, општеството и природата\, како и со квалитетен и здрав живот.\nЛуѓето можат да имаат различни мотиви за планинарење\, некои од нив се  дружење\, здрав начин на живот\, подобрување на здравјето\, предизвик\, истражување\, фотографии\, но сите заедничко им е љубовта кон природата. \nНиз дружење со природата ќе ги научиме нашите деца повеќе да ја почитуваат и заштитуваат од уништување. Хиперактивните ги смирува\, а оние посрамежливите природата ги балансира и им дава повеќе самодоверба.  Планинарството бара дисциплина\, како на телото така и на умот. Времето поминато во природата е добро за нашето здравје\, но за жал се помалку време минуваме во природа\, а се повеќе седиме во некој виртуелен дигитален свет.  Престојот во природа не е само за чист воздух\, во природа најдобро не се учи само за животот во природата\, но и за животот воопшто. \nПланинарењето со деца е еден од најдобрите начини уште од најмлада возраст да ги поврзете со природата. Тоа за нив ќе биде голем животен предизвик\, исто како и за вас. За почеток\, изберете патека која не е премногу долга ниту стрмна\, не заборавајте дека за децата ова е искуство\, не натпревар за издржливост. \nНаучете ги да не оставаат ѓубре зад себе\, погрижете се целиот смет да биде собран на едно место и понесете го со вас во автомобилот. Така ќе им покажете дека се грижите за животната средина. Не оставајте траги на човечка присутност во природата. \nНајдобар и најефикасен начин\, децата да ги научите да одат на планина е личниот пример. Тоа значи дека детето го водиме на планина веднаш штом ќе прооди. Ќе се изненадите колку децата\, веќе на две години\, се способни да направат прошетка на најблиската планина\, која може да трае половина час. \nПатот ќе биде уште позабавен\, доколку во планинарењето се здружите со пријатели со деца на приближна возраст.Анимирањето при одењето на планина за децата е од суштинско значење и кога еднаш ќе го направите тоа\, на добар пат сте сите со задоволство да го завршат искачувањето. \nУште една важна работа: децата да ги научиме сами да го носат својот ранец. Кога се помали\, мал ранец\, во којшто\, покрај вода и закуска\, може да ја сместат и својата омилена играчка \n 
URL:https://bgschool.mk/kalendar/%d1%81%d0%bf%d0%be%d1%80%d1%82%d1%81%d0%ba%d0%b8-%d0%ba%d0%bb%d1%83%d0%b1/
CATEGORIES:Творилница 3
ATTACH;FMTTYPE=image/jpeg:https://bgschool.mk/wp-content/uploads/2023/03/Magles_4-e1679768376745.jpeg
END:VEVENT
BEGIN:VEVENT
DTSTART;TZID=Europe/Skopje:20230323T173000
DTEND;TZID=Europe/Skopje:20230323T193000
DTSTAMP:20260421T164920
CREATED:20230325T180926Z
LAST-MODIFIED:20230326T162219Z
UID:3200-1679592600-1679599800@bgschool.mk
SUMMARY:ЛИКОВЕН КЛУБ
DESCRIPTION:ЛИКОВЕН КЛУБ со Александра Ристовска
URL:https://bgschool.mk/kalendar/%d0%bb%d0%b8%d0%ba%d0%be%d0%b2%d0%b5%d0%bd-%d0%ba%d0%bb%d1%83%d0%b1/
LOCATION:ОГУДУ Кочо Рацин-Скопје\, Мирче Ацев 4\, Скопје\, Скопје\, 1000\, North Macedonia
CATEGORIES:Творилница 3
ATTACH;FMTTYPE=image/png:https://bgschool.mk/wp-content/uploads/2023/03/3.png
ORGANIZER;CN="%D0%A2%D0%B2%D0%BE%D1%80%D0%B8%D0%BB%D0%BD%D0%B8%D1%86%D0%B0":MAILTO:proekti@bgschool.mk
END:VEVENT
BEGIN:VEVENT
DTSTART;TZID=Europe/Skopje:20230321T173000
DTEND;TZID=Europe/Skopje:20230321T190000
DTSTAMP:20260421T164920
CREATED:20230325T180759Z
LAST-MODIFIED:20230402T185555Z
UID:3198-1679419800-1679425200@bgschool.mk
SUMMARY:МУЗИЧКО-ДРАМСКИ КЛУБ
DESCRIPTION:МУЗИЧКО-ДРАМСКИ КЛУБ со Теа Трајковска и Ангела Димитрова
URL:https://bgschool.mk/kalendar/tvorilnica3-muzicko-dramski-klub/
LOCATION:ОГУДУ Кочо Рацин-Скопје\, Мирче Ацев 4\, Скопје\, Скопје\, 1000\, North Macedonia
CATEGORIES:Творилница 3
ATTACH;FMTTYPE=image/jpeg:https://bgschool.mk/wp-content/uploads/2023/03/viber_image_2023-03-21_19-31-20-705-e1680461742984.jpg
ORGANIZER;CN="%D0%A2%D0%B2%D0%BE%D1%80%D0%B8%D0%BB%D0%BD%D0%B8%D1%86%D0%B0":MAILTO:proekti@bgschool.mk
END:VEVENT
BEGIN:VEVENT
DTSTART;TZID=Europe/Skopje:20230320T180000
DTEND;TZID=Europe/Skopje:20230320T200000
DTSTAMP:20260421T164920
CREATED:20230325T180145Z
LAST-MODIFIED:20230402T175123Z
UID:3194-1679335200-1679342400@bgschool.mk
SUMMARY:ДРАМСКИ КЛУБ
DESCRIPTION:ДРАМСКА СЕКЦИЈА ВО НОБ  со Трајко Јордановски\, оперски режисер
URL:https://bgschool.mk/kalendar/tvorilnica3-dramski-klub/
LOCATION:Национална опера и балет\, бул. Гоце Делчев бр.4\, Скопје\, Скопје\, 1000\, North Macedonia
CATEGORIES:Творилница 3
ATTACH;FMTTYPE=image/jpeg:https://bgschool.mk/wp-content/uploads/2023/04/viber_image_2023-03-20_21-06-18-784.jpg
ORGANIZER;CN="%D0%A2%D0%B2%D0%BE%D1%80%D0%B8%D0%BB%D0%BD%D0%B8%D1%86%D0%B0":MAILTO:proekti@bgschool.mk
END:VEVENT
END:VCALENDAR