BEGIN:VCALENDAR
VERSION:2.0
PRODID:-//Академия за иновативно образование -Скопие „Здравей“ |  Българско съботно-неделно училище - ECPv6.15.20//NONSGML v1.0//EN
CALSCALE:GREGORIAN
METHOD:PUBLISH
X-ORIGINAL-URL:https://bgschool.mk
X-WR-CALDESC:Събития за Академия за иновативно образование -Скопие „Здравей“ |  Българско съботно-неделно училище
REFRESH-INTERVAL;VALUE=DURATION:PT1H
X-Robots-Tag:noindex
X-PUBLISHED-TTL:PT1H
BEGIN:VTIMEZONE
TZID:Europe/Skopje
BEGIN:DAYLIGHT
TZOFFSETFROM:+0100
TZOFFSETTO:+0200
TZNAME:CEST
DTSTART:20220327T010000
END:DAYLIGHT
BEGIN:STANDARD
TZOFFSETFROM:+0200
TZOFFSETTO:+0100
TZNAME:CET
DTSTART:20221030T010000
END:STANDARD
BEGIN:DAYLIGHT
TZOFFSETFROM:+0100
TZOFFSETTO:+0200
TZNAME:CEST
DTSTART:20230326T010000
END:DAYLIGHT
BEGIN:STANDARD
TZOFFSETFROM:+0200
TZOFFSETTO:+0100
TZNAME:CET
DTSTART:20231029T010000
END:STANDARD
BEGIN:DAYLIGHT
TZOFFSETFROM:+0100
TZOFFSETTO:+0200
TZNAME:CEST
DTSTART:20240331T010000
END:DAYLIGHT
BEGIN:STANDARD
TZOFFSETFROM:+0200
TZOFFSETTO:+0100
TZNAME:CET
DTSTART:20241027T010000
END:STANDARD
END:VTIMEZONE
BEGIN:VEVENT
DTSTART;TZID=Europe/Skopje:20231104T113000
DTEND;TZID=Europe/Skopje:20231104T123000
DTSTAMP:20260423T153533
CREATED:20231015T155954Z
LAST-MODIFIED:20231015T160400Z
UID:4819-1699097400-1699101000@bgschool.mk
SUMMARY:VIII – XII Клас\, История/География
DESCRIPTION:VIII – XII клас История/География \n\n\n\nПреподавател Александра Николова \n\n\n\nДомашна работа:\n\n\n\n/
URL:https://bgschool.mk/kalendar/viii-xii-%d0%ba%d0%bb%d0%b0%d1%81-%d0%b8%d1%81%d1%82%d0%be%d1%80%d0%b8%d1%8f-%d0%b3%d0%b5%d0%be%d0%b3%d1%80%d0%b0%d1%84%d0%b8%d1%8f-2/
LOCATION:БНУ„Здравей“-Скопие\, бул. 11-ти Октомври 38/3\, Скопие\, Център\, 1000\, North Macedonia
CATEGORIES:Училище
END:VEVENT
BEGIN:VEVENT
DTSTART;TZID=Europe/Skopje:20231104T100000
DTEND;TZID=Europe/Skopje:20231104T113000
DTSTAMP:20260423T153533
CREATED:20231015T154421Z
LAST-MODIFIED:20231015T154706Z
UID:4801-1699092000-1699097400@bgschool.mk
SUMMARY:VIII Клас\, БЕЛ
DESCRIPTION:VIII клас\, Български език и литература \n\n\n\nПреподавател Диана Трайковска \n\n\n\nДомашна работа:\n\n\n\n/
URL:https://bgschool.mk/kalendar/viii-%d0%ba%d0%bb%d0%b0%d1%81-%d0%b1%d0%b5%d0%bb-5/
LOCATION:БНУ„Здравей“-Скопие\, бул. 11-ти Октомври 38/3\, Скопие\, Център\, 1000\, North Macedonia
CATEGORIES:Училище
END:VEVENT
BEGIN:VEVENT
DTSTART;TZID=Europe/Skopje:20231104T100000
DTEND;TZID=Europe/Skopje:20231104T110000
DTSTAMP:20260423T153533
CREATED:20231015T155048Z
LAST-MODIFIED:20231015T155158Z
UID:4807-1699092000-1699095600@bgschool.mk
SUMMARY:V И VII Клас\, История/География
DESCRIPTION:V и VII клас\, История/География \n\n\n\nПреподавател Александра Николова \n\n\n\nДомашна работа:\n\n\n\n/
URL:https://bgschool.mk/kalendar/v-%d0%b8-vii-%d0%ba%d0%bb%d0%b0%d1%81-%d0%b8%d1%81%d1%82%d0%be%d1%80%d0%b8%d1%8f-%d0%b3%d0%b5%d0%be%d0%b3%d1%80%d0%b0%d1%84%d0%b8%d1%8f-3/
LOCATION:БНУ„Здравей“-Скопие\, бул. 11-ти Октомври 38/3\, Скопие\, Център\, 1000\, North Macedonia
CATEGORIES:Училище
END:VEVENT
BEGIN:VEVENT
DTSTART;TZID=Europe/Skopje:20231102T170000
DTEND;TZID=Europe/Skopje:20231102T190000
DTSTAMP:20260423T153533
CREATED:20231015T153453Z
LAST-MODIFIED:20231015T153456Z
UID:4791-1698944400-1698951600@bgschool.mk
SUMMARY:III Клас\, БЕЛ\, ЧО
DESCRIPTION:III клас\, Български език и литература; Човек и общество \n\n\n\nПреподавател Светлана Садики \n\n\n\nДомашна работа:\n\n\n\n/
URL:https://bgschool.mk/kalendar/iii-%d0%ba%d0%bb%d0%b0%d1%81-%d0%b1%d0%b5%d0%bb-%d1%87%d0%be-5/
LOCATION:БНУ„Здравей“-Скопие\, бул. 11-ти Октомври 38/3\, Скопие\, Център\, 1000\, North Macedonia
CATEGORIES:Училище
END:VEVENT
BEGIN:VEVENT
DTSTART;TZID=Europe/Skopje:20231102T170000
DTEND;TZID=Europe/Skopje:20231102T190000
DTSTAMP:20260423T153533
CREATED:20231015T152958Z
LAST-MODIFIED:20231015T153654Z
UID:4787-1698944400-1698951600@bgschool.mk
SUMMARY:X Клас\, БЕЛ
DESCRIPTION:X клас\, Български език и литература \n\n\n\nПреподавател Александра Николова \n\n\n\nДомашна работа:\n\n\n\n/
URL:https://bgschool.mk/kalendar/x-%d0%ba%d0%bb%d0%b0%d1%81-%d0%b1%d0%b5%d0%bb-5/
LOCATION:БНУ„Здравей“-Скопие\, бул. 11-ти Октомври 38/3\, Скопие\, Център\, 1000\, North Macedonia
CATEGORIES:Училище
END:VEVENT
BEGIN:VEVENT
DTSTART;TZID=Europe/Skopje:20231101T180000
DTEND;TZID=Europe/Skopje:20231101T190000
DTSTAMP:20260423T153533
CREATED:20231015T131022Z
LAST-MODIFIED:20231015T163742Z
UID:4768-1698861600-1698865200@bgschool.mk
SUMMARY:Празненство по повод Деня на народните будители
DESCRIPTION:Oтбелязваме един от най-съкровените български празници – Денят нанародните будители. В Деня на народните будители почитаме делото на всичкипросветители\, възрожденци и борци за духовна независимост на България. Денят нанародните будители ни напомня още веднъж\, колко важно е единството ни в името наБългария\, колко нужни са ни днес\, смирение\, солидарност\, търпение и човечностпомежду ни\, за да преодоляваме заедно и в разбирателство трудностите! \n\n\n\nПрисъединете се към нас и нашите ученици в честването на празника!
URL:https://bgschool.mk/kalendar/%d0%bf%d1%80%d0%b0%d0%b7%d0%bd%d0%b5%d0%bd%d1%81%d1%82%d0%b2%d0%be-%d0%bf%d0%be-%d0%bf%d0%be%d0%b2%d0%be%d0%b4-%d0%b4%d0%b5%d0%bd%d1%8f-%d0%bd%d0%b0-%d0%bd%d0%b0%d1%80%d0%be%d0%b4%d0%bd%d0%b8%d1%82/
LOCATION:Български културно-информационен център Скопие\, ул. Никола Вапцаров 6\, Скопје\, 1000\, North Macedonia
CATEGORIES:Училище
ATTACH;FMTTYPE=image/jpeg:https://bgschool.mk/wp-content/uploads/2022/11/20221103_175905.jpg
END:VEVENT
BEGIN:VEVENT
DTSTART;TZID=Europe/Skopje:20231031T170000
DTEND;TZID=Europe/Skopje:20231031T191500
DTSTAMP:20260423T153533
CREATED:20231014T193950Z
LAST-MODIFIED:20231014T194008Z
UID:4741-1698771600-1698779700@bgschool.mk
SUMMARY:IV Клас\, БЕЛ\, ЧО
DESCRIPTION:IV клас\, Български език и литература; Човек и общество \n\n\n\nПреподавател Диана Трайковска \n\n\n\nДомашна работа:\n\n\n\n/
URL:https://bgschool.mk/kalendar/iv-%d0%ba%d0%bb%d0%b0%d1%81-%d0%b1%d0%b5%d0%bb-%d1%87%d0%be-4/
LOCATION:БНУ„Здравей“-Скопие\, бул. 11-ти Октомври 38/3\, Скопие\, Център\, 1000\, North Macedonia
CATEGORIES:Училище
END:VEVENT
BEGIN:VEVENT
DTSTART;TZID=Europe/Skopje:20231031T163000
DTEND;TZID=Europe/Skopje:20231031T180000
DTSTAMP:20260423T153533
CREATED:20231014T191530Z
LAST-MODIFIED:20231014T193435Z
UID:4732-1698769800-1698775200@bgschool.mk
SUMMARY:V Клас\, БЕЛ
DESCRIPTION:Български език и литература\, V клас \n\n\n\nПреподавател Светлана Садики \n\n\n\nДомашна работа:
URL:https://bgschool.mk/kalendar/v-%d0%ba%d0%bb%d0%b0%d1%81-%d0%b1%d0%b5%d0%bb-4/
LOCATION:БНУ„Здравей“-Скопие\, бул. 11-ти Октомври 38/3\, Скопие\, Център\, 1000\, North Macedonia
CATEGORIES:Училище
END:VEVENT
BEGIN:VEVENT
DTSTART;TZID=Europe/Skopje:20231028T113000
DTEND;TZID=Europe/Skopje:20231028T123000
DTSTAMP:20260423T153533
CREATED:20231015T161111Z
LAST-MODIFIED:20231015T161114Z
UID:4829-1698492600-1698496200@bgschool.mk
SUMMARY:VIII – XII Клас\, История/География
DESCRIPTION:VIII – XII клас История/География \n\n\n\nПреподавател Александра Николова \n\n\n\nДомашна работа:\n\n\n\n/
URL:https://bgschool.mk/kalendar/viii-xii-%d0%ba%d0%bb%d0%b0%d1%81-%d0%b8%d1%81%d1%82%d0%be%d1%80%d0%b8%d1%8f-%d0%b3%d0%b5%d0%be%d0%b3%d1%80%d0%b0%d1%84%d0%b8%d1%8f-4/
LOCATION:БНУ„Здравей“-Скопие\, бул. 11-ти Октомври 38/3\, Скопие\, Център\, 1000\, North Macedonia
CATEGORIES:Училище
END:VEVENT
BEGIN:VEVENT
DTSTART;TZID=Europe/Skopje:20231028T100000
DTEND;TZID=Europe/Skopje:20231028T113000
DTSTAMP:20260423T153533
CREATED:20231015T154243Z
LAST-MODIFIED:20231015T154252Z
UID:4798-1698487200-1698492600@bgschool.mk
SUMMARY:VIII Клас\, БЕЛ
DESCRIPTION:VIII клас\, Български език и литература \n\n\n\nПреподавател Диана Трайковска \n\n\n\nДомашна работа:\n\n\n\n/
URL:https://bgschool.mk/kalendar/viii-%d0%ba%d0%bb%d0%b0%d1%81-%d0%b1%d0%b5%d0%bb-4/
LOCATION:БНУ„Здравей“-Скопие\, бул. 11-ти Октомври 38/3\, Скопие\, Център\, 1000\, North Macedonia
CATEGORIES:Училище
END:VEVENT
BEGIN:VEVENT
DTSTART;TZID=Europe/Skopje:20231028T100000
DTEND;TZID=Europe/Skopje:20231028T110000
DTSTAMP:20260423T153533
CREATED:20231015T155132Z
LAST-MODIFIED:20231015T155445Z
UID:4809-1698487200-1698490800@bgschool.mk
SUMMARY:V И VII Клас\, История/География
DESCRIPTION:V и VII клас\, История/География \n\n\n\nПреподавател Александра Николова \n\n\n\nДомашна работа:\n\n\n\n/
URL:https://bgschool.mk/kalendar/v-%d0%b8-vii-%d0%ba%d0%bb%d0%b0%d1%81-%d0%b8%d1%81%d1%82%d0%be%d1%80%d0%b8%d1%8f-%d0%b3%d0%b5%d0%be%d0%b3%d1%80%d0%b0%d1%84%d0%b8%d1%8f-4/
LOCATION:БНУ„Здравей“-Скопие\, бул. 11-ти Октомври 38/3\, Скопие\, Център\, 1000\, North Macedonia
CATEGORIES:Училище
END:VEVENT
BEGIN:VEVENT
DTSTART;TZID=Europe/Skopje:20231026T170000
DTEND;TZID=Europe/Skopje:20231026T190000
DTSTAMP:20260423T153533
CREATED:20231015T152741Z
LAST-MODIFIED:20231015T152844Z
UID:4785-1698339600-1698346800@bgschool.mk
SUMMARY:X Клас\, БЕЛ
DESCRIPTION:X клас\, Български език и литература \n\n\n\nПреподавател Александра Николова \n\n\n\nДомашна работа:\n\n\n\n/
URL:https://bgschool.mk/kalendar/x-%d0%ba%d0%bb%d0%b0%d1%81-%d0%b1%d0%b5%d0%bb-4/
LOCATION:БНУ„Здравей“-Скопие\, бул. 11-ти Октомври 38/3\, Скопие\, Център\, 1000\, North Macedonia
CATEGORIES:Училище
END:VEVENT
BEGIN:VEVENT
DTSTART;TZID=Europe/Skopje:20231026T170000
DTEND;TZID=Europe/Skopje:20231026T190000
DTSTAMP:20260423T153533
CREATED:20231015T152243Z
LAST-MODIFIED:20231015T153349Z
UID:4778-1698339600-1698346800@bgschool.mk
SUMMARY:III Клас\, БЕЛ\, ЧО
DESCRIPTION:III клас\, Български език и литература; Човек и общество \n\n\n\nПреподавател Светлана Садики \n\n\n\nДомашна работа:\n\n\n\n/
URL:https://bgschool.mk/kalendar/iii-%d0%ba%d0%bb%d0%b0%d1%81-%d0%b1%d0%b5%d0%bb-%d1%87%d0%be-4/
LOCATION:БНУ„Здравей“-Скопие\, бул. 11-ти Октомври 38/3\, Скопие\, Център\, 1000\, North Macedonia
CATEGORIES:Училище
END:VEVENT
BEGIN:VEVENT
DTSTART;TZID=Europe/Skopje:20231025T170000
DTEND;TZID=Europe/Skopje:20231025T183000
DTSTAMP:20260423T153533
CREATED:20231015T122255Z
LAST-MODIFIED:20231015T122258Z
UID:4766-1698253200-1698258600@bgschool.mk
SUMMARY:VI И VII Клас\, БЕЛ
DESCRIPTION:VI и VII клас\, Български език и литература \n\n\n\nПреподавател Диана Трайковска \n\n\n\nДомашна работа:\n\n\n\n/
URL:https://bgschool.mk/kalendar/vi-%d0%b8-vii-%d0%ba%d0%bb%d0%b0%d1%81-%d0%b1%d0%b5%d0%bb-4/
LOCATION:БНУ„Здравей“-Скопие\, бул. 11-ти Октомври 38/3\, Скопие\, Център\, 1000\, North Macedonia
CATEGORIES:Училище
END:VEVENT
BEGIN:VEVENT
DTSTART;TZID=Europe/Skopje:20231025T153000
DTEND;TZID=Europe/Skopje:20231025T165000
DTSTAMP:20260423T153533
CREATED:20231015T120430Z
LAST-MODIFIED:20231015T120433Z
UID:4753-1698247800-1698252600@bgschool.mk
SUMMARY:I Клас БЕ\, Околен Свят
DESCRIPTION:I клас – Български език\, Околен свят \n\n\n\nПреподавател Диана Трайковска \n\n\n\nДомашна работа:\n\n\n\n/
URL:https://bgschool.mk/kalendar/i-%d0%ba%d0%bb%d0%b0%d1%81-%d0%b1%d0%b5-%d0%be%d0%ba%d0%be%d0%bb%d0%b5%d0%bd-%d1%81%d0%b2%d1%8f%d1%82-4/
LOCATION:БНУ„Здравей“-Скопие\, бул. 11-ти Октомври 38/3\, Скопие\, Център\, 1000\, North Macedonia
CATEGORIES:Училище
END:VEVENT
BEGIN:VEVENT
DTSTART;TZID=Europe/Skopje:20231024T170000
DTEND;TZID=Europe/Skopje:20231024T191500
DTSTAMP:20260423T153533
CREATED:20231014T193631Z
LAST-MODIFIED:20231014T193643Z
UID:4738-1698166800-1698174900@bgschool.mk
SUMMARY:IV Клас\, БЕЛ\, ЧО
DESCRIPTION:IV клас\, Български език и литература; Човек и общество \n\n\n\nПреподавател Диана Трайковска \n\n\n\nДомашна работа:
URL:https://bgschool.mk/kalendar/iv-%d0%ba%d0%bb%d0%b0%d1%81-%d0%b1%d0%b5%d0%bb-%d1%87%d0%be-3/
LOCATION:БНУ„Здравей“-Скопие\, бул. 11-ти Октомври 38/3\, Скопие\, Център\, 1000\, North Macedonia
CATEGORIES:Училище
END:VEVENT
BEGIN:VEVENT
DTSTART;TZID=Europe/Skopje:20231024T163000
DTEND;TZID=Europe/Skopje:20231024T180000
DTSTAMP:20260423T153533
CREATED:20231014T191308Z
LAST-MODIFIED:20231014T191311Z
UID:4730-1698165000-1698170400@bgschool.mk
SUMMARY:V Клас\, БЕЛ
DESCRIPTION:Български език и литература\, V клас \n\n\n\nПреподавател Светлана Садики \n\n\n\nДомашна работа:
URL:https://bgschool.mk/kalendar/v-%d0%ba%d0%bb%d0%b0%d1%81-%d0%b1%d0%b5%d0%bb-3/
LOCATION:БНУ„Здравей“-Скопие\, бул. 11-ти Октомври 38/3\, Скопие\, Център\, 1000\, North Macedonia
CATEGORIES:Училище
END:VEVENT
BEGIN:VEVENT
DTSTART;TZID=Europe/Skopje:20231021T123000
DTEND;TZID=Europe/Skopje:20231021T133000
DTSTAMP:20260423T153533
CREATED:20231015T161453Z
LAST-MODIFIED:20231015T161456Z
UID:4833-1697891400-1697895000@bgschool.mk
SUMMARY:
DESCRIPTION:Фолклор- включва изучаване на фолклорни танци\, обичаи\, творчески работилници на фолклорна тематика\, като се включват учениците от всички класове\, техните родители и приятели не само от общността\, но и извън нея. \n\n\n\nКлуб „Любознайко“ – изучават се факти за известни личности от България\, от всички области – спорт\, наука\, изкуство\, история\, научно-изледователски открития и други. Обработват се исторически и природо-географски теми свързание с България. Работи се по нова методика – колаборация и приложно-проектно учене.
URL:https://bgschool.mk/kalendar/4833/
LOCATION:БНУ„Здравей“-Скопие\, бул. 11-ти Октомври 38/3\, Скопие\, Център\, 1000\, North Macedonia
CATEGORIES:Училище
END:VEVENT
BEGIN:VEVENT
DTSTART;TZID=Europe/Skopje:20231021T113000
DTEND;TZID=Europe/Skopje:20231021T123000
DTSTAMP:20260423T153533
CREATED:20231015T160809Z
LAST-MODIFIED:20231015T160951Z
UID:4825-1697887800-1697891400@bgschool.mk
SUMMARY:VIII – XII Клас\, История/География
DESCRIPTION:VIII – XII клас История/География \n\n\n\nПреподавател Александра Николова \n\n\n\nДомашна работа:\n\n\n\n/
URL:https://bgschool.mk/kalendar/4825/
LOCATION:БНУ„Здравей“-Скопие\, бул. 11-ти Октомври 38/3\, Скопие\, Център\, 1000\, North Macedonia
CATEGORIES:Училище
END:VEVENT
BEGIN:VEVENT
DTSTART;TZID=Europe/Skopje:20231021T100000
DTEND;TZID=Europe/Skopje:20231021T113000
DTSTAMP:20260423T153533
CREATED:20231015T154559Z
LAST-MODIFIED:20231015T154602Z
UID:4803-1697882400-1697887800@bgschool.mk
SUMMARY:VIII Клас\, БЕЛ
DESCRIPTION:VIII клас\, Български език и литература \n\n\n\nПреподавател Диана Трайковска \n\n\n\nДомашна работа:\n\n\n\n/
URL:https://bgschool.mk/kalendar/viii-%d0%ba%d0%bb%d0%b0%d1%81-%d0%b1%d0%b5%d0%bb-6/
LOCATION:БНУ„Здравей“-Скопие\, бул. 11-ти Октомври 38/3\, Скопие\, Център\, 1000\, North Macedonia
CATEGORIES:Училище
END:VEVENT
BEGIN:VEVENT
DTSTART;TZID=Europe/Skopje:20231021T100000
DTEND;TZID=Europe/Skopje:20231021T110000
DTSTAMP:20260423T153533
CREATED:20231015T154858Z
LAST-MODIFIED:20231015T155010Z
UID:4805-1697882400-1697886000@bgschool.mk
SUMMARY:V И VII Клас\, История/География
DESCRIPTION:V и VII клас\, История/География \n\n\n\nПреподавател Александра Николова \n\n\n\nДомашна работа:\n\n\n\n/
URL:https://bgschool.mk/kalendar/v-%d0%b8-vii-%d0%ba%d0%bb%d0%b0%d1%81-%d0%b8%d1%81%d1%82%d0%be%d1%80%d0%b8%d1%8f-%d0%b3%d0%b5%d0%be%d0%b3%d1%80%d0%b0%d1%84%d0%b8%d1%8f-2/
LOCATION:БНУ„Здравей“-Скопие\, бул. 11-ти Октомври 38/3\, Скопие\, Център\, 1000\, North Macedonia
CATEGORIES:Училище
END:VEVENT
BEGIN:VEVENT
DTSTART;TZID=Europe/Skopje:20231019T170000
DTEND;TZID=Europe/Skopje:20231019T190000
DTSTAMP:20260423T153533
CREATED:20231015T152636Z
LAST-MODIFIED:20231015T152639Z
UID:4783-1697734800-1697742000@bgschool.mk
SUMMARY:X Клас\, БЕЛ
DESCRIPTION:X клас\, Български език и литература \n\n\n\nПреподавател Александра Николова \n\n\n\nДомашна работа:\n\n\n\n/
URL:https://bgschool.mk/kalendar/x-%d0%ba%d0%bb%d0%b0%d1%81-%d0%b1%d0%b5%d0%bb-3/
LOCATION:БНУ„Здравей“-Скопие\, бул. 11-ти Октомври 38/3\, Скопие\, Център\, 1000\, North Macedonia
CATEGORIES:Училище
END:VEVENT
BEGIN:VEVENT
DTSTART;TZID=Europe/Skopje:20231019T170000
DTEND;TZID=Europe/Skopje:20231019T190000
DTSTAMP:20260423T153533
CREATED:20231015T152119Z
LAST-MODIFIED:20231015T152123Z
UID:4776-1697734800-1697742000@bgschool.mk
SUMMARY:III Клас\, БЕЛ\, ЧО
DESCRIPTION:III клас\, Български език и литература; Човек и общество \n\n\n\nПреподавател Светлана Садики \n\n\n\nДомашна работа:\n\n\n\n/
URL:https://bgschool.mk/kalendar/iii-%d0%ba%d0%bb%d0%b0%d1%81-%d0%b1%d0%b5%d0%bb-%d1%87%d0%be-3/
LOCATION:БНУ„Здравей“-Скопие\, бул. 11-ти Октомври 38/3\, Скопие\, Център\, 1000\, North Macedonia
CATEGORIES:Училище
END:VEVENT
BEGIN:VEVENT
DTSTART;TZID=Europe/Skopje:20231018T170000
DTEND;TZID=Europe/Skopje:20231018T183000
DTSTAMP:20260423T153533
CREATED:20231015T122118Z
LAST-MODIFIED:20231015T122122Z
UID:4764-1697648400-1697653800@bgschool.mk
SUMMARY:VI И VII Клас\, БЕЛ
DESCRIPTION:VI и VII клас\, Български език и литература \n\n\n\nПреподавател Диана Трайковска \n\n\n\nДомашна работа:\n\n\n\n/
URL:https://bgschool.mk/kalendar/vi-%d0%b8-vii-%d0%ba%d0%bb%d0%b0%d1%81-%d0%b1%d0%b5%d0%bb-3/
LOCATION:БНУ„Здравей“-Скопие\, бул. 11-ти Октомври 38/3\, Скопие\, Център\, 1000\, North Macedonia
CATEGORIES:Училище
END:VEVENT
BEGIN:VEVENT
DTSTART;TZID=Europe/Skopje:20231018T153000
DTEND;TZID=Europe/Skopje:20231018T165000
DTSTAMP:20260423T153533
CREATED:20231014T195305Z
LAST-MODIFIED:20231014T195312Z
UID:4751-1697643000-1697647800@bgschool.mk
SUMMARY:I Клас БЕ\, Околен Свят
DESCRIPTION:I клас – Български език\, Околен свят \n\n\n\nПреподавател Диана Трайковска \n\n\n\nДомашна работа:\n\n\n\n/
URL:https://bgschool.mk/kalendar/i-%d0%ba%d0%bb%d0%b0%d1%81-%d0%b1%d0%b5-%d0%be%d0%ba%d0%be%d0%bb%d0%b5%d0%bd-%d1%81%d0%b2%d1%8f%d1%82-3/
LOCATION:БНУ„Здравей“-Скопие\, бул. 11-ти Октомври 38/3\, Скопие\, Център\, 1000\, North Macedonia
CATEGORIES:Училище
END:VEVENT
BEGIN:VEVENT
DTSTART;TZID=Europe/Skopje:20231017T170000
DTEND;TZID=Europe/Skopje:20231017T191500
DTSTAMP:20260423T153533
CREATED:20231014T193129Z
LAST-MODIFIED:20231014T193135Z
UID:4736-1697562000-1697570100@bgschool.mk
SUMMARY:IV Клас\, БЕЛ\, ЧО
DESCRIPTION:IV клас\, Български език и литература; Човек и общество \n\n\n\nПреподавател Диана Бекова Трайковска \n\n\n\nДомашна работа:
URL:https://bgschool.mk/kalendar/iv-%d0%ba%d0%bb%d0%b0%d1%81-%d0%b1%d0%b5%d0%bb-%d1%87%d0%be-2/
LOCATION:БНУ„Здравей“-Скопие\, бул. 11-ти Октомври 38/3\, Скопие\, Център\, 1000\, North Macedonia
CATEGORIES:Училище
END:VEVENT
BEGIN:VEVENT
DTSTART;TZID=Europe/Skopje:20231017T163000
DTEND;TZID=Europe/Skopje:20231017T180000
DTSTAMP:20260423T153533
CREATED:20231014T190844Z
LAST-MODIFIED:20231014T191109Z
UID:4727-1697560200-1697565600@bgschool.mk
SUMMARY:V Клас\, БЕЛ
DESCRIPTION:Български език и литература\, V клас \n\n\n\nПреподавател Светлана Садики \n\n\n\nДомашна работа:
URL:https://bgschool.mk/kalendar/4727/
LOCATION:БНУ„Здравей“-Скопие\, бул. 11-ти Октомври 38/3\, Скопие\, Център\, 1000\, North Macedonia
CATEGORIES:Училище
END:VEVENT
BEGIN:VEVENT
DTSTART;TZID=Europe/Skopje:20231014T123000
DTEND;TZID=Europe/Skopje:20231014T133000
DTSTAMP:20260423T153533
CREATED:20231015T161247Z
LAST-MODIFIED:20231015T161406Z
UID:4831-1697286600-1697290200@bgschool.mk
SUMMARY:Фолклор / Клуб „Любознайко“
DESCRIPTION:Фолклор- включва изучаване на фолклорни танци\, обичаи\, творчески работилници на фолклорна тематика\, като се включват учениците от всички класове\, техните родители и приятели не само от общността\, но и извън нея. \n\n\n\nКлуб „Любознайко“ – изучават се факти за известни личности от България\, от всички области – спорт\, наука\, изкуство\, история\, научно-изледователски открития и други. Обработват се исторически и природо-географски теми свързание с България. Работи се по нова методика – колаборация и приложно-проектно учене.
URL:https://bgschool.mk/kalendar/%d1%84%d0%be%d0%bb%d0%ba%d0%bb%d0%be%d1%80-%d0%ba%d0%bb%d1%83%d0%b1-%d0%bb%d1%8e%d0%b1%d0%be%d0%b7%d0%bd%d0%b0%d0%b9%d0%ba%d0%be-2/
LOCATION:БНУ„Здравей“-Скопие\, бул. 11-ти Октомври 38/3\, Скопие\, Център\, 1000\, North Macedonia
CATEGORIES:Училище
END:VEVENT
BEGIN:VEVENT
DTSTART;TZID=Europe/Skopje:20231014T113000
DTEND;TZID=Europe/Skopje:20231014T123000
DTSTAMP:20260423T153533
CREATED:20231015T160609Z
LAST-MODIFIED:20231015T160612Z
UID:4823-1697283000-1697286600@bgschool.mk
SUMMARY:VIII – XII Клас\, История/География
DESCRIPTION:VIII – XII клас История/География \n\n\n\nПреподавател Александра Николова \n\n\n\nДомашна работа:\n\n\n\n/
URL:https://bgschool.mk/kalendar/viii-xii-%d0%ba%d0%bb%d0%b0%d1%81-%d0%b8%d1%81%d1%82%d0%be%d1%80%d0%b8%d1%8f-%d0%b3%d0%b5%d0%be%d0%b3%d1%80%d0%b0%d1%84%d0%b8%d1%8f-3/
LOCATION:БНУ„Здравей“-Скопие\, бул. 11-ти Октомври 38/3\, Скопие\, Център\, 1000\, North Macedonia
CATEGORIES:Училище
END:VEVENT
BEGIN:VEVENT
DTSTART;TZID=Europe/Skopje:20231014T100000
DTEND;TZID=Europe/Skopje:20231014T113000
DTSTAMP:20260423T153533
CREATED:20231015T153844Z
LAST-MODIFIED:20231015T153847Z
UID:4794-1697277600-1697283000@bgschool.mk
SUMMARY:VIII Клас\, БЕЛ
DESCRIPTION:VIII клас\, Български език и литература \n\n\n\nПреподавател Диана Трайковска \n\n\n\nДомашна работа:\n\n\n\n/
URL:https://bgschool.mk/kalendar/viii-%d0%ba%d0%bb%d0%b0%d1%81-%d0%b1%d0%b5%d0%bb-2/
LOCATION:БНУ„Здравей“-Скопие\, бул. 11-ти Октомври 38/3\, Скопие\, Център\, 1000\, North Macedonia
CATEGORIES:Училище
END:VEVENT
END:VCALENDAR