BEGIN:VCALENDAR
VERSION:2.0
PRODID:-//Академия за иновативно образование -Скопие „Здравей“ |  Българско съботно-неделно училище - ECPv6.15.20//NONSGML v1.0//EN
CALSCALE:GREGORIAN
METHOD:PUBLISH
X-ORIGINAL-URL:https://bgschool.mk
X-WR-CALDESC:Събития за Академия за иновативно образование -Скопие „Здравей“ |  Българско съботно-неделно училище
REFRESH-INTERVAL;VALUE=DURATION:PT1H
X-Robots-Tag:noindex
X-PUBLISHED-TTL:PT1H
BEGIN:VTIMEZONE
TZID:Europe/Skopje
BEGIN:DAYLIGHT
TZOFFSETFROM:+0100
TZOFFSETTO:+0200
TZNAME:CEST
DTSTART:20220327T010000
END:DAYLIGHT
BEGIN:STANDARD
TZOFFSETFROM:+0200
TZOFFSETTO:+0100
TZNAME:CET
DTSTART:20221030T010000
END:STANDARD
BEGIN:DAYLIGHT
TZOFFSETFROM:+0100
TZOFFSETTO:+0200
TZNAME:CEST
DTSTART:20230326T010000
END:DAYLIGHT
BEGIN:STANDARD
TZOFFSETFROM:+0200
TZOFFSETTO:+0100
TZNAME:CET
DTSTART:20231029T010000
END:STANDARD
BEGIN:DAYLIGHT
TZOFFSETFROM:+0100
TZOFFSETTO:+0200
TZNAME:CEST
DTSTART:20240331T010000
END:DAYLIGHT
BEGIN:STANDARD
TZOFFSETFROM:+0200
TZOFFSETTO:+0100
TZNAME:CET
DTSTART:20241027T010000
END:STANDARD
END:VTIMEZONE
BEGIN:VEVENT
DTSTART;TZID=Europe/Skopje:20230930T120000
DTEND;TZID=Europe/Skopje:20230930T133000
DTSTAMP:20260423T215646
CREATED:20230903T172335Z
LAST-MODIFIED:20230903T172340Z
UID:4094-1696075200-1696080600@bgschool.mk
SUMMARY:Фолклор / Клуб „Любознайко“
DESCRIPTION:Фолклор / Клуб „Любознайко“ \n\n\n\nФолклор- включва изучаване на фолклорни танци\, обичаи\, творчески работилници на фолклорна тематика\, като се включват учениците от всички класове\, техните родители и приятели не само от общността\, но и извън нея. \n\n\n\nКлуб „Любознайко“ – изучават се факти за известни личности от България\, от всички области – спорт\, наука\, изкуство\, история\, научно-изледователски открития и други. Обработват се исторически и природо-географски теми свързание с България. Работи се по нова методика – колаборация и приложно-проектно учене.
URL:https://bgschool.mk/kalendar/klub_300923/
LOCATION:БНУ„Здравей“-Скопие\, бул. 11-ти Октомври 38/3\, Скопие\, Център\, 1000\, North Macedonia
CATEGORIES:Училище
END:VEVENT
BEGIN:VEVENT
DTSTART;TZID=Europe/Skopje:20230930T113000
DTEND;TZID=Europe/Skopje:20230930T123000
DTSTAMP:20260423T215646
CREATED:20230903T171647Z
LAST-MODIFIED:20230911T102422Z
UID:4088-1696073400-1696077000@bgschool.mk
SUMMARY:VIII – XII Клас\, История/География
DESCRIPTION:VIII – XII клас История/География \n\n\n\nПреподавател Александра Николова \n\n\n\nДомашна работа:\n\n\n\n/
URL:https://bgschool.mk/kalendar/8-12klas_ig_300923/
LOCATION:БНУ„Здравей“-Скопие\, бул. 11-ти Октомври 38/3\, Скопие\, Център\, 1000\, North Macedonia
CATEGORIES:Училище
END:VEVENT
BEGIN:VEVENT
DTSTART;TZID=Europe/Skopje:20230930T100000
DTEND;TZID=Europe/Skopje:20230930T113000
DTSTAMP:20260423T215646
CREATED:20230903T170426Z
LAST-MODIFIED:20231005T201311Z
UID:4078-1696068000-1696073400@bgschool.mk
SUMMARY:VIII Клас\, БЕЛ
DESCRIPTION:VIII клас\, Български език и литература \n\n\n\nПреподавател Диана Бекова Трайковска \n\n\n\nДомашна работа:\n\n\n\n9-ти клас Научен текст8-ми прочит на Илиада
URL:https://bgschool.mk/kalendar/8klas_bel_300923/
LOCATION:БНУ„Здравей“-Скопие\, бул. 11-ти Октомври 38/3\, Скопие\, Център\, 1000\, North Macedonia
CATEGORIES:Училище
END:VEVENT
BEGIN:VEVENT
DTSTART;TZID=Europe/Skopje:20230930T100000
DTEND;TZID=Europe/Skopje:20230930T110000
DTSTAMP:20260423T215646
CREATED:20230903T170806Z
LAST-MODIFIED:20230903T170810Z
UID:4082-1696068000-1696071600@bgschool.mk
SUMMARY: V и VII Клас\, История/География
DESCRIPTION:V и VII клас\, История/География \n\n\n\nПреподавател Александра Николова \n\n\n\nДомашна работа:\n\n\n\n/
URL:https://bgschool.mk/kalendar/5-7klas_ig_300923/
LOCATION:БНУ„Здравей“-Скопие\, бул. 11-ти Октомври 38/3\, Скопие\, Център\, 1000\, North Macedonia
CATEGORIES:Училище
END:VEVENT
BEGIN:VEVENT
DTSTART;TZID=Europe/Skopje:20230928T170000
DTEND;TZID=Europe/Skopje:20230928T190000
DTSTAMP:20260423T215646
CREATED:20230903T164103Z
LAST-MODIFIED:20230903T164338Z
UID:4060-1695920400-1695927600@bgschool.mk
SUMMARY:X Клас\, БЕЛ
DESCRIPTION:X клас\, Български език и литература \n\n\n\nПреподавател Александра Николова
URL:https://bgschool.mk/kalendar/10klas_bel_280923/
LOCATION:БНУ„Здравей“-Скопие\, бул. 11-ти Октомври 38/3\, Скопие\, Център\, 1000\, North Macedonia
CATEGORIES:Училище
END:VEVENT
BEGIN:VEVENT
DTSTART;TZID=Europe/Skopje:20230928T170000
DTEND;TZID=Europe/Skopje:20230928T190000
DTSTAMP:20260423T215646
CREATED:20230903T163850Z
LAST-MODIFIED:20230903T163853Z
UID:4058-1695920400-1695927600@bgschool.mk
SUMMARY:III Клас\, БЕЛ\, ЧО
DESCRIPTION:III клас\, Български език и литература; Човек и общество \n\n\n\nПреподавател Светлана Садики
URL:https://bgschool.mk/kalendar/3klas_bel_co_280923/
LOCATION:БНУ„Здравей“-Скопие\, бул. 11-ти Октомври 38/3\, Скопие\, Център\, 1000\, North Macedonia
CATEGORIES:Училище
END:VEVENT
BEGIN:VEVENT
DTSTART;TZID=Europe/Skopje:20230927T170000
DTEND;TZID=Europe/Skopje:20230927T183000
DTSTAMP:20260423T215646
CREATED:20230903T152628Z
LAST-MODIFIED:20230928T195531Z
UID:4044-1695834000-1695839400@bgschool.mk
SUMMARY:VI И VII Клас\, БЕЛ
DESCRIPTION:VI и VII клас\, Български език и литература \n\n\n\nПреподавател Диана Бекова Трайковска \n\n\n\nДомашна работа:\n\n\n\n6-ти клас Научен текст упражнения в тетрадката.Моето семейство и други животни – работа в учебната тетрадка7 класХудожествен текст – дом работа на стр. 15
URL:https://bgschool.mk/kalendar/6-8klas-bel_270923/
LOCATION:БНУ„Здравей“-Скопие\, бул. 11-ти Октомври 38/3\, Скопие\, Център\, 1000\, North Macedonia
CATEGORIES:Училище
END:VEVENT
BEGIN:VEVENT
DTSTART;TZID=Europe/Skopje:20230927T153000
DTEND;TZID=Europe/Skopje:20230927T165000
DTSTAMP:20260423T215646
CREATED:20230903T152427Z
LAST-MODIFIED:20230903T152429Z
UID:4042-1695828600-1695833400@bgschool.mk
SUMMARY:I Клас БЕ\, Околен Свят
DESCRIPTION:I клас – Български език\, Околен свят \n\n\n\nПреподавател Диана Бекова Трайковска
URL:https://bgschool.mk/kalendar/1klas-beos-270923/
LOCATION:БНУ„Здравей“-Скопие\, бул. 11-ти Октомври 38/3\, Скопие\, Център\, 1000\, North Macedonia
CATEGORIES:Училище
END:VEVENT
BEGIN:VEVENT
DTSTART;TZID=Europe/Skopje:20230926T170000
DTEND;TZID=Europe/Skopje:20230926T191500
DTSTAMP:20260423T215646
CREATED:20230903T164735Z
LAST-MODIFIED:20230926T182904Z
UID:4063-1695747600-1695755700@bgschool.mk
SUMMARY:IV Клас\, БЕЛ\, ЧО
DESCRIPTION:IV клас\, Български език и литература; Човек и общество \n\n\n\nПреподавател Диана Бекова Трайковска \n\n\n\nДомашна работа:\n\n\n\n4 -ти класЧитанка – Необикновено пътуванеБългарски език – Мога да изговарям съгласните звукове и да пиша правилно буквите им.
URL:https://bgschool.mk/kalendar/4klas_bel_co_290923/
LOCATION:БНУ„Здравей“-Скопие\, бул. 11-ти Октомври 38/3\, Скопие\, Център\, 1000\, North Macedonia
CATEGORIES:Училище
END:VEVENT
BEGIN:VEVENT
DTSTART;TZID=Europe/Skopje:20230926T163000
DTEND;TZID=Europe/Skopje:20230926T180000
DTSTAMP:20260423T215646
CREATED:20230903T140204Z
LAST-MODIFIED:20230926T183325Z
UID:4005-1695745800-1695751200@bgschool.mk
SUMMARY:V клас\, БЕЛ
DESCRIPTION:Български език и литература\, V клас \n\n\n\nПреподавател Светлана Садики \n\n\n\nДомашна работа:\n\n\n\nУчебник по литература\, стр. 21 – прочетете;Тетрадка по литература литература\, стр. 4-5;Тетрадка по български език\, стр. 8-9;учебник по история – стр. 10 – препишете термините\, стр. 11\, рубрика „Проекти“ (зад. 1)
URL:https://bgschool.mk/kalendar/5klas_bel_260923/
LOCATION:БНУ„Здравей“-Скопие\, бул. 11-ти Октомври 38/3\, Скопие\, Център\, 1000\, North Macedonia
CATEGORIES:Училище
END:VEVENT
BEGIN:VEVENT
DTSTART;TZID=Europe/Skopje:20230926T000000
DTEND;TZID=Europe/Skopje:20230926T235959
DTSTAMP:20260423T215646
CREATED:20230812T192454Z
LAST-MODIFIED:20230812T192458Z
UID:3713-1695686400-1695772799@bgschool.mk
SUMMARY:Европейски ден на езиците
DESCRIPTION:Европейския ден на езиците – 26 септември – честване на езиковото многообразие.В Европейския съюз има 24 официални езика\, около 60 регионални и малцинствени езика и повече от 175 езика на имигранти.
URL:https://bgschool.mk/kalendar/%d0%b5%d0%b2%d1%80%d0%be%d0%bf%d0%b5%d0%b9%d1%81%d0%ba%d0%b8-%d0%b4%d0%b5%d0%bd-%d0%bd%d0%b0-%d0%b5%d0%b7%d0%b8%d1%86%d0%b8%d1%82%d0%b5/
LOCATION:Център
CATEGORIES:Училище
END:VEVENT
BEGIN:VEVENT
DTSTART;TZID=Europe/Skopje:20230923T120000
DTEND;TZID=Europe/Skopje:20230923T133000
DTSTAMP:20260423T215646
CREATED:20230903T172142Z
LAST-MODIFIED:20230903T172144Z
UID:4092-1695470400-1695475800@bgschool.mk
SUMMARY:Фолклор / Клуб „Любознайко“
DESCRIPTION:Фолклор / Клуб „Любознайко“ \n\n\n\nФолклор- включва изучаване на фолклорни танци\, обичаи\, творчески работилници на фолклорна тематика\, като се включват учениците от всички класове\, техните родители и приятели не само от общността\, но и извън нея. \n\n\n\nКлуб „Любознайко“ – изучават се факти за известни личности от България\, от всички области – спорт\, наука\, изкуство\, история\, научно-изледователски открития и други. Обработват се исторически и природо-географски теми свързание с България. Работи се по нова методика – колаборация и приложно-проектно учене.
URL:https://bgschool.mk/kalendar/klub_230923/
LOCATION:БНУ„Здравей“-Скопие\, бул. 11-ти Октомври 38/3\, Скопие\, Център\, 1000\, North Macedonia
CATEGORIES:Училище
END:VEVENT
BEGIN:VEVENT
DTSTART;TZID=Europe/Skopje:20230923T113000
DTEND;TZID=Europe/Skopje:20230923T123000
DTSTAMP:20260423T215646
CREATED:20230903T171348Z
LAST-MODIFIED:20230916T112627Z
UID:4086-1695468600-1695472200@bgschool.mk
SUMMARY:VIII – XII Клас\, История/География
DESCRIPTION:VIII – XII клас История/География \n\n\n\nПреподавател Александра Николова \n\n\n\nДомашна работа:\n\n\n\n10-ти клас няма домашна \n\n\n\n8-9-ти клас – История\, въпросите на стр.11
URL:https://bgschool.mk/kalendar/8-12klas_ig_230923/
LOCATION:БНУ„Здравей“-Скопие\, бул. 11-ти Октомври 38/3\, Скопие\, Център\, 1000\, North Macedonia
CATEGORIES:Училище
END:VEVENT
BEGIN:VEVENT
DTSTART;TZID=Europe/Skopje:20230923T100000
DTEND;TZID=Europe/Skopje:20230923T113000
DTSTAMP:20260423T215646
CREATED:20230903T170253Z
LAST-MODIFIED:20230923T092745Z
UID:4076-1695463200-1695468600@bgschool.mk
SUMMARY:VIII - IX Клас\, БЕЛ
DESCRIPTION:VIII – IX клас\, Български език и литература \n\n\n\nПреподавател Диана Бекова Трайковска \n\n\n\nДомашна работа:\n\n\n\n8-ми клас Античност. 2\,3\,4 въпрос на стр 24 в учебника.Български език Правопис и правоговор домашно в учебните тетрадки
URL:https://bgschool.mk/kalendar/8klas_bel_230923/
LOCATION:БНУ„Здравей“-Скопие\, бул. 11-ти Октомври 38/3\, Скопие\, Център\, 1000\, North Macedonia
CATEGORIES:Училище
END:VEVENT
BEGIN:VEVENT
DTSTART;TZID=Europe/Skopje:20230923T100000
DTEND;TZID=Europe/Skopje:20230923T110000
DTSTAMP:20260423T215646
CREATED:20230903T170618Z
LAST-MODIFIED:20230916T112813Z
UID:4080-1695463200-1695466800@bgschool.mk
SUMMARY:V И VII Клас\, История/География
DESCRIPTION:V и VII клас\, История/География \n\n\n\nПреподавател Александра Николова \n\n\n\nДомашна работа:\n\n\n\nИстория\, въпросите на стр.11
URL:https://bgschool.mk/kalendar/5-7klas_ig_230923/
LOCATION:БНУ„Здравей“-Скопие\, бул. 11-ти Октомври 38/3\, Скопие\, Център\, 1000\, North Macedonia
CATEGORIES:Училище
END:VEVENT
BEGIN:VEVENT
DTSTART;TZID=Europe/Skopje:20230922T000000
DTEND;TZID=Europe/Skopje:20230922T235959
DTSTAMP:20260423T215646
CREATED:20230812T191756Z
LAST-MODIFIED:20230812T191759Z
UID:3709-1695340800-1695427199@bgschool.mk
SUMMARY:Ден на независимостта на България
DESCRIPTION:Отбелязваме 115 години от обявяване на независимостта на България
URL:https://bgschool.mk/kalendar/%d0%b4%d0%b5%d0%bd-%d0%bd%d0%b0-%d0%bd%d0%b5%d0%b7%d0%b0%d0%b2%d0%b8%d1%81%d0%b8%d0%bc%d0%be%d1%81%d1%82%d1%82%d0%b0-%d0%bd%d0%b0-%d0%b1%d1%8a%d0%bb%d0%b3%d0%b0%d1%80%d0%b8%d1%8f/
LOCATION:Център
CATEGORIES:Училище
END:VEVENT
BEGIN:VEVENT
DTSTART;TZID=Europe/Skopje:20230921T170000
DTEND;TZID=Europe/Skopje:20230921T190000
DTSTAMP:20260423T215646
CREATED:20230903T162939Z
LAST-MODIFIED:20230903T162942Z
UID:4052-1695315600-1695322800@bgschool.mk
SUMMARY:X Клас\, БЕЛ
DESCRIPTION:X клас\, Български език и литература \n\n\n\nПреподавател Александра Николова
URL:https://bgschool.mk/kalendar/10klas_bel_210923/
LOCATION:БНУ„Здравей“-Скопие\, бул. 11-ти Октомври 38/3\, Скопие\, Център\, 1000\, North Macedonia
CATEGORIES:Училище
END:VEVENT
BEGIN:VEVENT
DTSTART;TZID=Europe/Skopje:20230921T170000
DTEND;TZID=Europe/Skopje:20230921T190000
DTSTAMP:20260423T215646
CREATED:20230903T161944Z
LAST-MODIFIED:20230903T161947Z
UID:4046-1695315600-1695322800@bgschool.mk
SUMMARY:III Клас\, БЕЛ\, ЧО
DESCRIPTION:III клас\, Български език и литература; Човек и общество \n\n\n\nПреподавател Светлана Садики
URL:https://bgschool.mk/kalendar/3klas_bel_co_210923/
LOCATION:БНУ„Здравей“-Скопие\, бул. 11-ти Октомври 38/3\, Скопие\, Център\, 1000\, North Macedonia
CATEGORIES:Училище
END:VEVENT
BEGIN:VEVENT
DTSTART;TZID=Europe/Skopje:20230921T000000
DTEND;TZID=Europe/Skopje:20230921T235959
DTSTAMP:20260423T215646
CREATED:20230812T192245Z
LAST-MODIFIED:20230812T192248Z
UID:3711-1695254400-1695340799@bgschool.mk
SUMMARY:Международен ден на мира
DESCRIPTION:
URL:https://bgschool.mk/kalendar/%d0%bc%d0%b5%d0%b6%d0%b4%d1%83%d0%bd%d0%b0%d1%80%d0%be%d0%b4%d0%b5%d0%bd-%d0%b4%d0%b5%d0%bd-%d0%bd%d0%b0-%d0%bc%d0%b8%d1%80%d0%b0/
LOCATION:Център
CATEGORIES:Училище
END:VEVENT
BEGIN:VEVENT
DTSTART;TZID=Europe/Skopje:20230920T170000
DTEND;TZID=Europe/Skopje:20230920T183000
DTSTAMP:20260423T215646
CREATED:20230903T151847Z
LAST-MODIFIED:20230920T193721Z
UID:4040-1695229200-1695234600@bgschool.mk
SUMMARY:VI И VII Клас\, БЕЛ
DESCRIPTION:VI и VII клас\, Български език и литература \n\n\n\nПреподавател Диана Бекова Трайковска \n\n\n\nДомашна работа:\n\n\n\n6 ти клас Отечеството любезно\,как хубаво си ти7 клас Извичане на информация от медиен текстНа прощаване
URL:https://bgschool.mk/kalendar/6-8klas_bel_200923/
LOCATION:БНУ„Здравей“-Скопие\, бул. 11-ти Октомври 38/3\, Скопие\, Център\, 1000\, North Macedonia
CATEGORIES:Училище
END:VEVENT
BEGIN:VEVENT
DTSTART;TZID=Europe/Skopje:20230920T153000
DTEND;TZID=Europe/Skopje:20230920T165000
DTSTAMP:20260423T215646
CREATED:20230903T151122Z
LAST-MODIFIED:20230903T151125Z
UID:4038-1695223800-1695228600@bgschool.mk
SUMMARY:I Клас БЕ\, Околен Свят
DESCRIPTION:I клас – Български език\, Околен свят \n\n\n\nПреподавател Диана Бекова Трайковска
URL:https://bgschool.mk/kalendar/1klas-beos-200923/
LOCATION:БНУ„Здравей“-Скопие\, бул. 11-ти Октомври 38/3\, Скопие\, Център\, 1000\, North Macedonia
CATEGORIES:Училище
END:VEVENT
BEGIN:VEVENT
DTSTART;TZID=Europe/Skopje:20230919T170000
DTEND;TZID=Europe/Skopje:20230919T191500
DTSTAMP:20260423T215646
CREATED:20230903T163643Z
LAST-MODIFIED:20230919T184551Z
UID:4056-1695142800-1695150900@bgschool.mk
SUMMARY:IV Клас\, БЕЛ\, ЧО
DESCRIPTION:IV клас\, Български език и литература; Човек и общество \n\n\n\nПреподавател Диана Бекова Трайковска \n\n\n\nДомашна работа:\n\n\n\n4 – ти класБЕЛ-Песента на синчеца\, Мога да изговарям гласните звукове и да пиша правилно буквите им.
URL:https://bgschool.mk/kalendar/4klas_bel_co_220923/
LOCATION:БНУ„Здравей“-Скопие\, бул. 11-ти Октомври 38/3\, Скопие\, Център\, 1000\, North Macedonia
CATEGORIES:Училище
END:VEVENT
BEGIN:VEVENT
DTSTART;TZID=Europe/Skopje:20230919T163000
DTEND;TZID=Europe/Skopje:20230919T180000
DTSTAMP:20260423T215646
CREATED:20230903T135940Z
LAST-MODIFIED:20230919T184931Z
UID:4003-1695141000-1695146400@bgschool.mk
SUMMARY:V клас\, БЕЛ
DESCRIPTION:Български език и литература\, V клас \n\n\n\nПреподавател Светлана Садики \n\n\n\nДомашна работа:\n\n\n\nУчебник по български език\, стр. 14 (зад. 1-3); литература – любим или измислен бог на… (описание);Химн на будителите – наизуст
URL:https://bgschool.mk/kalendar/5klas_bel_190923/
LOCATION:БНУ„Здравей“-Скопие\, бул. 11-ти Октомври 38/3\, Скопие\, Център\, 1000\, North Macedonia
CATEGORIES:Училище
END:VEVENT
BEGIN:VEVENT
DTSTART;TZID=Europe/Skopje:20230916T120000
DTEND;TZID=Europe/Skopje:20230916T133000
DTSTAMP:20260423T215646
CREATED:20230903T172011Z
LAST-MODIFIED:20230903T172015Z
UID:4090-1694865600-1694871000@bgschool.mk
SUMMARY:Фолклор / Клуб „Любознайко“
DESCRIPTION:Фолклор / Клуб „Любознайко“ \n\n\n\nФолклор- включва изучаване на фолклорни танци\, обичаи\, творчески работилници на фолклорна тематика\, като се включват учениците от всички класове\, техните родители и приятели не само от общността\, но и извън нея. \n\n\n\nКлуб „Любознайко“ – изучават се факти за известни личности от България\, от всички области – спорт\, наука\, изкуство\, история\, научно-изледователски открития и други. Обработват се исторически и природо-географски теми свързание с България. Работи се по нова методика – колаборация и приложно-проектно учене.
URL:https://bgschool.mk/kalendar/klub_160923/
LOCATION:БНУ„Здравей“-Скопие\, бул. 11-ти Октомври 38/3\, Скопие\, Център\, 1000\, North Macedonia
CATEGORIES:Училище
END:VEVENT
BEGIN:VEVENT
DTSTART;TZID=Europe/Skopje:20230916T113000
DTEND;TZID=Europe/Skopje:20230916T123000
DTSTAMP:20260423T215646
CREATED:20230903T171134Z
LAST-MODIFIED:20230911T101238Z
UID:4084-1694863800-1694867400@bgschool.mk
SUMMARY:VIII – XII Клас\, История/География
DESCRIPTION:VIII – XII клас История/География \n\n\n\nПреподавател Александра Николова \n\n\n\nДомашна работа:\n\n\n\n/
URL:https://bgschool.mk/kalendar/8-12klas_ig_160923/
LOCATION:БНУ„Здравей“-Скопие\, бул. 11-ти Октомври 38/3\, Скопие\, Център\, 1000\, North Macedonia
CATEGORIES:Училище
END:VEVENT
BEGIN:VEVENT
DTSTART;TZID=Europe/Skopje:20230916T100000
DTEND;TZID=Europe/Skopje:20230916T113000
DTSTAMP:20260423T215646
CREATED:20230903T165558Z
LAST-MODIFIED:20230916T100605Z
UID:4072-1694858400-1694863800@bgschool.mk
SUMMARY:VIII - IX Клас\, БЕЛ
DESCRIPTION:VIII – IX клас\, Български език и литература \n\n\n\nПреподавател Диана Бекова Трайковска \n\n\n\nДомашна работа:\n\n\n\n8- ми клас  – Език\,текст\, общество тест 2 за домашна \n\n\n\n9-ти клас – прочит на Пътешествието на Гъливер 1 част
URL:https://bgschool.mk/kalendar/8klas_bel_160923/
LOCATION:БНУ„Здравей“-Скопие\, бул. 11-ти Октомври 38/3\, Скопие\, Център\, 1000\, North Macedonia
CATEGORIES:Училище
END:VEVENT
BEGIN:VEVENT
DTSTART;TZID=Europe/Skopje:20230916T100000
DTEND;TZID=Europe/Skopje:20230916T110000
DTSTAMP:20260423T215646
CREATED:20230903T170037Z
LAST-MODIFIED:20230911T102001Z
UID:4074-1694858400-1694862000@bgschool.mk
SUMMARY:V И VII Клас\, История/География
DESCRIPTION:V и VII клас\, История/География \n\n\n\nПреподавател Александра Николова \n\n\n\nДомашна работа:\n\n\n\n/
URL:https://bgschool.mk/kalendar/5-7klas_ig_160923/
LOCATION:БНУ„Здравей“-Скопие\, бул. 11-ти Октомври 38/3\, Скопие\, Център\, 1000\, North Macedonia
CATEGORIES:Училище
END:VEVENT
BEGIN:VEVENT
DTSTART;TZID=Europe/Skopje:20230914T170000
DTEND;TZID=Europe/Skopje:20230914T190000
DTSTAMP:20260423T215646
CREATED:20230903T150820Z
LAST-MODIFIED:20230903T150823Z
UID:4036-1694710800-1694718000@bgschool.mk
SUMMARY:X Клас\, БЕЛ
DESCRIPTION:X клас\, Български език и литература \n\n\n\nПреподавател Александра Николова
URL:https://bgschool.mk/kalendar/10klas_bel_140923/
LOCATION:БНУ„Здравей“-Скопие\, бул. 11-ти Октомври 38/3\, Скопие\, Център\, 1000\, North Macedonia
CATEGORIES:Училище
END:VEVENT
BEGIN:VEVENT
DTSTART;TZID=Europe/Skopje:20230914T170000
DTEND;TZID=Europe/Skopje:20230914T190000
DTSTAMP:20260423T215646
CREATED:20230903T150431Z
LAST-MODIFIED:20230903T161836Z
UID:4034-1694710800-1694718000@bgschool.mk
SUMMARY:III Клас\, БЕЛ\, ЧО
DESCRIPTION:III клас\, Български език и литература; Човек и общество \n\n\n\nПреподавател Светлана Садики
URL:https://bgschool.mk/kalendar/3klas_bel_co_140923/
LOCATION:БНУ„Здравей“-Скопие\, бул. 11-ти Октомври 38/3\, Скопие\, Център\, 1000\, North Macedonia
CATEGORIES:Училище
END:VEVENT
BEGIN:VEVENT
DTSTART;TZID=Europe/Skopje:20230913T170000
DTEND;TZID=Europe/Skopje:20230913T183000
DTSTAMP:20260423T215646
CREATED:20230903T150216Z
LAST-MODIFIED:20230913T185101Z
UID:4032-1694624400-1694629800@bgschool.mk
SUMMARY:VI И VII Клас\, БЕЛ
DESCRIPTION:VI и VII клас\, Български език и литература \n\n\n\nПреподавател Диана Бекова Трайковска \n\n\n\n\n\n\n\n6-ти клас домашно по български език стр.9 упражнение 4\,5\,6 \n\n\n\n7-ми клас домашно по български език стр.9 5 и 6 упражнение
URL:https://bgschool.mk/kalendar/6-8klas_bel_130923/
LOCATION:БНУ„Здравей“-Скопие\, бул. 11-ти Октомври 38/3\, Скопие\, Център\, 1000\, North Macedonia
CATEGORIES:Училище
END:VEVENT
END:VCALENDAR